BEGIN:VCALENDAR
VERSION:2.0
PRODID:-//Brandon Sun - ECPv6.15.20//NONSGML v1.0//EN
CALSCALE:GREGORIAN
METHOD:PUBLISH
X-ORIGINAL-URL:https://dev.brandonsun.com
X-WR-CALDESC:Events for Brandon Sun
REFRESH-INTERVAL;VALUE=DURATION:PT1H
X-Robots-Tag:noindex
X-PUBLISHED-TTL:PT1H
BEGIN:VTIMEZONE
TZID:America/Winnipeg
BEGIN:DAYLIGHT
TZOFFSETFROM:-0600
TZOFFSETTO:-0500
TZNAME:CDT
DTSTART:20240310T080000
END:DAYLIGHT
BEGIN:STANDARD
TZOFFSETFROM:-0500
TZOFFSETTO:-0600
TZNAME:CST
DTSTART:20241103T070000
END:STANDARD
BEGIN:DAYLIGHT
TZOFFSETFROM:-0600
TZOFFSETTO:-0500
TZNAME:CDT
DTSTART:20250309T080000
END:DAYLIGHT
BEGIN:STANDARD
TZOFFSETFROM:-0500
TZOFFSETTO:-0600
TZNAME:CST
DTSTART:20251102T070000
END:STANDARD
BEGIN:DAYLIGHT
TZOFFSETFROM:-0600
TZOFFSETTO:-0500
TZNAME:CDT
DTSTART:20260308T080000
END:DAYLIGHT
BEGIN:STANDARD
TZOFFSETFROM:-0500
TZOFFSETTO:-0600
TZNAME:CST
DTSTART:20261101T070000
END:STANDARD
END:VTIMEZONE
BEGIN:VEVENT
DTSTART;VALUE=DATE:20251004
DTEND;VALUE=DATE:20251005
DTSTAMP:20260425T081609
CREATED:20250924T204816Z
LAST-MODIFIED:20250924T204816Z
UID:600388166-1759536000-1759622399@dev.brandonsun.com
SUMMARY:Huge Indoor Garage Sale
DESCRIPTION:Indoor Garage Sale\nKnox United Church\n451 – 18th Street\n4 October\, Saturday\n9 AM to 1 PM
URL:https://dev.brandonsun.com/event/huge-indoor-garage-sale
END:VEVENT
BEGIN:VEVENT
DTSTART;TZID=America/Winnipeg:20251016T113000
DTEND;TZID=America/Winnipeg:20251016T130000
DTSTAMP:20260425T081609
CREATED:20251002T175637Z
LAST-MODIFIED:20251002T175637Z
UID:600399541-1760614200-1760619600@dev.brandonsun.com
SUMMARY:Adult Basic Education in Western Manitoba - growing the benefits
DESCRIPTION:The Canadian Centre for Policy Alternatives Manitoba office and the Errol Black Chair in Labour Issues presents:\nAdult basic education is a highly effective program that can transform people’s lives. Research shows that it reduces poverty\, promotes reconciliation and supports economic development.  \nDr. Jim Silver will present the latest local research on the impacts of adult basic education. Dr. Silver is professor emeritus at the University of Winnipeg and Research Associate with CCPA-MB. This will be followed by a panel discussion with Brandon adult basic education leaders including Catherine Carlisle\, Director at Turtle Mountain Adult Education Centre and Akapelwa Mweemba\, Academic Coordinator and Instructor\, Centre for Adult Learning in Brandon. \nJohn E. Robbins Library\n11:30 – 1:00 pm\nRSVP:  https://forms.gle/hJBkASs961GCkhfZ7 or call 1-204-927-3200
URL:https://dev.brandonsun.com/event/adult-basic-education-in-western-manitoba-growing-the-benefits
LOCATION:Brandon University\, 270-18th Street\, Brandon\, Manitoba\, R7A 6A9\, Canada
ATTACH;FMTTYPE=image/png:https://dev.brandonsun.com/wp-content/uploads/sites/3/2025/10/Adult-Ed-image.png
END:VEVENT
END:VCALENDAR