BEGIN:VCALENDAR
VERSION:2.0
PRODID:-//Brandon Sun - ECPv6.15.20//NONSGML v1.0//EN
CALSCALE:GREGORIAN
METHOD:PUBLISH
X-WR-CALNAME:Brandon Sun
X-ORIGINAL-URL:https://dev.brandonsun.com
X-WR-CALDESC:Events for Brandon Sun
REFRESH-INTERVAL;VALUE=DURATION:PT1H
X-Robots-Tag:noindex
X-PUBLISHED-TTL:PT1H
BEGIN:VTIMEZONE
TZID:America/Winnipeg
BEGIN:DAYLIGHT
TZOFFSETFROM:-0600
TZOFFSETTO:-0500
TZNAME:CDT
DTSTART:20240310T080000
END:DAYLIGHT
BEGIN:STANDARD
TZOFFSETFROM:-0500
TZOFFSETTO:-0600
TZNAME:CST
DTSTART:20241103T070000
END:STANDARD
BEGIN:DAYLIGHT
TZOFFSETFROM:-0600
TZOFFSETTO:-0500
TZNAME:CDT
DTSTART:20250309T080000
END:DAYLIGHT
BEGIN:STANDARD
TZOFFSETFROM:-0500
TZOFFSETTO:-0600
TZNAME:CST
DTSTART:20251102T070000
END:STANDARD
BEGIN:DAYLIGHT
TZOFFSETFROM:-0600
TZOFFSETTO:-0500
TZNAME:CDT
DTSTART:20260308T080000
END:DAYLIGHT
BEGIN:STANDARD
TZOFFSETFROM:-0500
TZOFFSETTO:-0600
TZNAME:CST
DTSTART:20261101T070000
END:STANDARD
END:VTIMEZONE
BEGIN:VEVENT
DTSTART;TZID=America/Winnipeg:20250901T120000
DTEND;TZID=America/Winnipeg:20250901T170000
DTSTAMP:20260425T081423
CREATED:20250924T204816Z
LAST-MODIFIED:20250924T204816Z
UID:600367980-1756728000-1756746000@dev.brandonsun.com
SUMMARY:Picnic for African\, Caribbean and Black Students
DESCRIPTION:Loy Excellentia Initiative is inviting all African\, Black & Caribbean Student in Brandon for the 2025 free picnic.\nGet ready for a day of fun\, food\, music\, and community!\nCome connect\, vibe\, and celebrate with fellow African\, Black\, and Caribbean students in Brandon. Whether you’re new in town or have been around a while\, this is the perfect chance to meet new friends\, share your culture\, and enjoy the last days of summer together!\n✨ What to Expect:\n• Delicious Afro-Caribbean dishes\n• Live DJ & cultural music\n• Lawn games\, dance-offs & giveaways\n• Student networking & community resources\n• Family-friendly vibes – kids welcome!\n🎈 Whether you’re starting school this Fall or returning for another year\, this picnic is the perfect kickoff to the semester! Don’t miss it.\n📌 More details coming soon. Stay tuned and spread the word!\nFollow us for updates: @LoyExcellentia in all social media handles.
URL:https://dev.brandonsun.com/event/picnic-for-african-caribbean-and-black-students
ATTACH;FMTTYPE=image/png:https://dev.brandonsun.com/wp-content/uploads/sites/3/2025/07/Picnic-2025.png
ORGANIZER;CN="Loy Excellentia Initiative":MAILTO:contact@brandonu.ca
END:VEVENT
END:VCALENDAR