BEGIN:VCALENDAR
VERSION:2.0
PRODID:-//Brandon Sun - ECPv6.15.20//NONSGML v1.0//EN
CALSCALE:GREGORIAN
METHOD:PUBLISH
X-WR-CALNAME:Brandon Sun
X-ORIGINAL-URL:https://dev.brandonsun.com
X-WR-CALDESC:Events for Brandon Sun
REFRESH-INTERVAL;VALUE=DURATION:PT1H
X-Robots-Tag:noindex
X-PUBLISHED-TTL:PT1H
BEGIN:VTIMEZONE
TZID:America/Winnipeg
BEGIN:DAYLIGHT
TZOFFSETFROM:-0600
TZOFFSETTO:-0500
TZNAME:CDT
DTSTART:20250309T080000
END:DAYLIGHT
BEGIN:STANDARD
TZOFFSETFROM:-0500
TZOFFSETTO:-0600
TZNAME:CST
DTSTART:20251102T070000
END:STANDARD
BEGIN:DAYLIGHT
TZOFFSETFROM:-0600
TZOFFSETTO:-0500
TZNAME:CDT
DTSTART:20260308T080000
END:DAYLIGHT
BEGIN:STANDARD
TZOFFSETFROM:-0500
TZOFFSETTO:-0600
TZNAME:CST
DTSTART:20261101T070000
END:STANDARD
BEGIN:DAYLIGHT
TZOFFSETFROM:-0600
TZOFFSETTO:-0500
TZNAME:CDT
DTSTART:20270314T080000
END:DAYLIGHT
BEGIN:STANDARD
TZOFFSETFROM:-0500
TZOFFSETTO:-0600
TZNAME:CST
DTSTART:20271107T070000
END:STANDARD
END:VTIMEZONE
BEGIN:VEVENT
DTSTART;TZID=America/Winnipeg:20260112T180000
DTEND;TZID=America/Winnipeg:20260112T190000
DTSTAMP:20260421T094230
CREATED:20260102T162540Z
LAST-MODIFIED:20260102T162540Z
UID:600428696-1768240800-1768244400@dev.brandonsun.com
SUMMARY:Book Club: Thriller\, Mondays\, Jan. 12 - Feb. 9\, 6:00PM - 7:00PM
DESCRIPTION:Welcome to the book club! Over five weeks we will explore The Apollo Murders by Chris Hadfield. Join us for an adventure in storytelling and discussion of themes all while connecting with others. Course fee is $50 and includes the cost of the book. Takes place at the T.E. Snure Room (638 Princess Ave.\, Door C). Register today at brandon.ca/rec-programs or call 204-729-2471.
URL:https://dev.brandonsun.com/event/book-club-thriller-mondays-jan-12-feb-9-600pm-700pm
ATTACH;FMTTYPE=image/png:https://dev.brandonsun.com/wp-content/uploads/sites/3/2026/01/Book-Club-Thriller-Winter-2026.png
END:VEVENT
END:VCALENDAR