BEGIN:VCALENDAR
VERSION:2.0
PRODID:-//Brandon Sun - ECPv6.15.20//NONSGML v1.0//EN
CALSCALE:GREGORIAN
METHOD:PUBLISH
X-WR-CALNAME:Brandon Sun
X-ORIGINAL-URL:https://dev.brandonsun.com
X-WR-CALDESC:Events for Brandon Sun
REFRESH-INTERVAL;VALUE=DURATION:PT1H
X-Robots-Tag:noindex
X-PUBLISHED-TTL:PT1H
BEGIN:VTIMEZONE
TZID:America/Winnipeg
BEGIN:DAYLIGHT
TZOFFSETFROM:-0600
TZOFFSETTO:-0500
TZNAME:CDT
DTSTART:20250309T080000
END:DAYLIGHT
BEGIN:STANDARD
TZOFFSETFROM:-0500
TZOFFSETTO:-0600
TZNAME:CST
DTSTART:20251102T070000
END:STANDARD
BEGIN:DAYLIGHT
TZOFFSETFROM:-0600
TZOFFSETTO:-0500
TZNAME:CDT
DTSTART:20260308T080000
END:DAYLIGHT
BEGIN:STANDARD
TZOFFSETFROM:-0500
TZOFFSETTO:-0600
TZNAME:CST
DTSTART:20261101T070000
END:STANDARD
BEGIN:DAYLIGHT
TZOFFSETFROM:-0600
TZOFFSETTO:-0500
TZNAME:CDT
DTSTART:20270314T080000
END:DAYLIGHT
BEGIN:STANDARD
TZOFFSETFROM:-0500
TZOFFSETTO:-0600
TZNAME:CST
DTSTART:20271107T070000
END:STANDARD
END:VTIMEZONE
BEGIN:VEVENT
DTSTART;TZID=America/Winnipeg:20260107T190000
DTEND;TZID=America/Winnipeg:20260107T203000
DTSTAMP:20260421T131309
CREATED:20260101T011509Z
LAST-MODIFIED:20260101T011509Z
UID:600428269-1767812400-1767817800@dev.brandonsun.com
SUMMARY:Crochet a Basket\, Wednesdays\, Jan. 7 - 28\, 7:00PM - 8:30PM
DESCRIPTION:Join us for an instructor-led 4-week crochet session where we will be making a crochet basket. This program is on Wednesdays from Jan. 7 to 28\, 7 to 8:30 p.m. Crochet experience preferred\, but basic knowledge would be acceptable. Takes place at the Cultural Resource Centre (638 Princess Ave.\, Door B).  \nA material list will be provided; program is $45. Register today at brandon.ca/rec-programs or call 204-729-2471.
URL:https://dev.brandonsun.com/event/crochet-a-basket-wednesdays-jan-7-28-700pm-830pm
ATTACH;FMTTYPE=image/png:https://dev.brandonsun.com/wp-content/uploads/sites/3/2025/12/Crochet-Basket-Winter-2026.png
END:VEVENT
END:VCALENDAR