BEGIN:VCALENDAR
VERSION:2.0
PRODID:-//Brandon Sun - ECPv6.15.20//NONSGML v1.0//EN
CALSCALE:GREGORIAN
METHOD:PUBLISH
X-ORIGINAL-URL:https://dev.brandonsun.com
X-WR-CALDESC:Events for Brandon Sun
REFRESH-INTERVAL;VALUE=DURATION:PT1H
X-Robots-Tag:noindex
X-PUBLISHED-TTL:PT1H
BEGIN:VTIMEZONE
TZID:America/Winnipeg
BEGIN:DAYLIGHT
TZOFFSETFROM:-0600
TZOFFSETTO:-0500
TZNAME:CDT
DTSTART:20240310T080000
END:DAYLIGHT
BEGIN:STANDARD
TZOFFSETFROM:-0500
TZOFFSETTO:-0600
TZNAME:CST
DTSTART:20241103T070000
END:STANDARD
BEGIN:DAYLIGHT
TZOFFSETFROM:-0600
TZOFFSETTO:-0500
TZNAME:CDT
DTSTART:20250309T080000
END:DAYLIGHT
BEGIN:STANDARD
TZOFFSETFROM:-0500
TZOFFSETTO:-0600
TZNAME:CST
DTSTART:20251102T070000
END:STANDARD
BEGIN:DAYLIGHT
TZOFFSETFROM:-0600
TZOFFSETTO:-0500
TZNAME:CDT
DTSTART:20260308T080000
END:DAYLIGHT
BEGIN:STANDARD
TZOFFSETFROM:-0500
TZOFFSETTO:-0600
TZNAME:CST
DTSTART:20261101T070000
END:STANDARD
END:VTIMEZONE
BEGIN:VEVENT
DTSTART;TZID=America/Winnipeg:20251221T190000
DTEND;TZID=America/Winnipeg:20251221T200000
DTSTAMP:20260423T133004
CREATED:20260101T011530Z
LAST-MODIFIED:20260101T011530Z
UID:600420155-1766343600-1766347200@dev.brandonsun.com
SUMMARY:"A Blue Christmas"
DESCRIPTION:A Blue Christmas is a contemplative worship service to provide a comforting and gentle space for those who are grieving or struggling during the holiday season. These services are designed to acknowledge pain\, loss\, and loneliness\, and offer a way to find hope and healing in the midst of seasonal celebrations.
URL:https://dev.brandonsun.com/event/a-blue-christmas
ATTACH;FMTTYPE=image/jpeg:https://dev.brandonsun.com/wp-content/uploads/sites/3/2025/12/BlueChristmasPoster2.pdf.jpg
END:VEVENT
END:VCALENDAR