BEGIN:VCALENDAR
VERSION:2.0
PRODID:-//Brandon Sun - ECPv6.15.20//NONSGML v1.0//EN
CALSCALE:GREGORIAN
METHOD:PUBLISH
X-ORIGINAL-URL:https://dev.brandonsun.com
X-WR-CALDESC:Events for Brandon Sun
REFRESH-INTERVAL;VALUE=DURATION:PT1H
X-Robots-Tag:noindex
X-PUBLISHED-TTL:PT1H
BEGIN:VTIMEZONE
TZID:America/Winnipeg
BEGIN:DAYLIGHT
TZOFFSETFROM:-0600
TZOFFSETTO:-0500
TZNAME:CDT
DTSTART:20240310T080000
END:DAYLIGHT
BEGIN:STANDARD
TZOFFSETFROM:-0500
TZOFFSETTO:-0600
TZNAME:CST
DTSTART:20241103T070000
END:STANDARD
BEGIN:DAYLIGHT
TZOFFSETFROM:-0600
TZOFFSETTO:-0500
TZNAME:CDT
DTSTART:20250309T080000
END:DAYLIGHT
BEGIN:STANDARD
TZOFFSETFROM:-0500
TZOFFSETTO:-0600
TZNAME:CST
DTSTART:20251102T070000
END:STANDARD
BEGIN:DAYLIGHT
TZOFFSETFROM:-0600
TZOFFSETTO:-0500
TZNAME:CDT
DTSTART:20260308T080000
END:DAYLIGHT
BEGIN:STANDARD
TZOFFSETFROM:-0500
TZOFFSETTO:-0600
TZNAME:CST
DTSTART:20261101T070000
END:STANDARD
END:VTIMEZONE
BEGIN:VEVENT
DTSTART;TZID=America/Winnipeg:20251119T170000
DTEND;TZID=America/Winnipeg:20251119T190000
DTSTAMP:20260423T222221
CREATED:20251114T170201Z
LAST-MODIFIED:20251114T170201Z
UID:600414232-1763571600-1763578800@dev.brandonsun.com
SUMMARY:Global Cafe- Language Corner
DESCRIPTION:Language Corner is a weekly gathering designed for anyone who wants to practice\, improve\, or share their language skills in a supportive environment. Participants can engage in conversations\, exchange cultural knowledge\, and build confidence while learning together. It is not only about grammar and vocabulary; it is about communication\, connection\, and creating friendships across cultures.\nWhether you are a newcomer looking to practice English or someone interested in exploring another language\, this event provides a relaxed and welcoming setting to grow. \nWho Can Join? \nAbsolutely everyone! No language experience needed—just a love for learning and a willingness to laugh through your mispronunciations. \nWhy Attend? \n– Boost your brain through language play\n– Discover new writing systems\n– Make new friends across cultures\n– Laugh\, sing\, and learn in one evening \nJoin us at Language Corner practice\, learn\, and connect with new friends every week! \nDrop in any time during the session.
URL:https://dev.brandonsun.com/event/global-cafe-language-corner
ATTACH;FMTTYPE=image/jpeg:https://dev.brandonsun.com/wp-content/uploads/sites/3/2025/11/thumbnail_Language-Corner.jpg
END:VEVENT
END:VCALENDAR