BEGIN:VCALENDAR
VERSION:2.0
PRODID:-//Brandon Sun - ECPv6.15.20//NONSGML v1.0//EN
CALSCALE:GREGORIAN
METHOD:PUBLISH
X-ORIGINAL-URL:https://dev.brandonsun.com
X-WR-CALDESC:Events for Brandon Sun
REFRESH-INTERVAL;VALUE=DURATION:PT1H
X-Robots-Tag:noindex
X-PUBLISHED-TTL:PT1H
BEGIN:VTIMEZONE
TZID:America/Winnipeg
BEGIN:DAYLIGHT
TZOFFSETFROM:-0600
TZOFFSETTO:-0500
TZNAME:CDT
DTSTART:20240310T080000
END:DAYLIGHT
BEGIN:STANDARD
TZOFFSETFROM:-0500
TZOFFSETTO:-0600
TZNAME:CST
DTSTART:20241103T070000
END:STANDARD
BEGIN:DAYLIGHT
TZOFFSETFROM:-0600
TZOFFSETTO:-0500
TZNAME:CDT
DTSTART:20250309T080000
END:DAYLIGHT
BEGIN:STANDARD
TZOFFSETFROM:-0500
TZOFFSETTO:-0600
TZNAME:CST
DTSTART:20251102T070000
END:STANDARD
BEGIN:DAYLIGHT
TZOFFSETFROM:-0600
TZOFFSETTO:-0500
TZNAME:CDT
DTSTART:20260308T080000
END:DAYLIGHT
BEGIN:STANDARD
TZOFFSETFROM:-0500
TZOFFSETTO:-0600
TZNAME:CST
DTSTART:20261101T070000
END:STANDARD
END:VTIMEZONE
BEGIN:VEVENT
DTSTART;TZID=America/Winnipeg:20251118T170000
DTEND;TZID=America/Winnipeg:20251118T190000
DTSTAMP:20260423T222536
CREATED:20251113T214207Z
LAST-MODIFIED:20251113T214207Z
UID:600413885-1763485200-1763492400@dev.brandonsun.com
SUMMARY:Global Cafe- Rhythm & Roots
DESCRIPTION:Rhythm and Roots is an event that celebrates music as a universal language. Join us for an evening filled with traditional rhythms\, live performances\, and cultural expression that showcase the beauty of diversity.\nThe event creates an energetic space where you can not only listen but also feel the heartbeat of different cultures through sound and movement. Whether you come to dance\, to enjoy\, or to learn\, Rhythm and Roots offers a joyful and vibrant experience that strengthens the bonds within our community. \nWho Is It For? \nEveryone is welcome! Whether you are ready to teach\, learn\, or simply enjoy\, this is a space for all cultures\, backgrounds\, and rhythms. \nWhy Join Us? \n– Celebrate culture in motion\n– Discover something new and meaningful\n– Share your stories and traditions\n– Dance\, laugh\, and connect in a welcoming space \nBe part of the rhythm\, come dance\, listen\, and celebrate at Rhythm and Roots! \nNo registration required\, just drop in!
URL:https://dev.brandonsun.com/event/global-cafe-rhythm-roots
ATTACH;FMTTYPE=image/jpeg:https://dev.brandonsun.com/wp-content/uploads/sites/3/2025/11/thumbnail_Rythm-Roots-1.jpg
END:VEVENT
END:VCALENDAR